BEGIN:VCALENDAR
VERSION:2.0
PRODID:-//Downtown Littleton - ECPv6.15.18//NONSGML v1.0//EN
CALSCALE:GREGORIAN
METHOD:PUBLISH
X-WR-CALNAME:Downtown Littleton
X-ORIGINAL-URL:https://littletondda.org
X-WR-CALDESC:Events for Downtown Littleton
REFRESH-INTERVAL;VALUE=DURATION:PT1H
X-Robots-Tag:noindex
X-PUBLISHED-TTL:PT1H
BEGIN:VTIMEZONE
TZID:America/Denver
BEGIN:DAYLIGHT
TZOFFSETFROM:-0700
TZOFFSETTO:-0600
TZNAME:MDT
DTSTART:20220313T090000
END:DAYLIGHT
BEGIN:STANDARD
TZOFFSETFROM:-0600
TZOFFSETTO:-0700
TZNAME:MST
DTSTART:20221106T080000
END:STANDARD
BEGIN:DAYLIGHT
TZOFFSETFROM:-0700
TZOFFSETTO:-0600
TZNAME:MDT
DTSTART:20230312T090000
END:DAYLIGHT
BEGIN:STANDARD
TZOFFSETFROM:-0600
TZOFFSETTO:-0700
TZNAME:MST
DTSTART:20231105T080000
END:STANDARD
BEGIN:DAYLIGHT
TZOFFSETFROM:-0700
TZOFFSETTO:-0600
TZNAME:MDT
DTSTART:20240310T090000
END:DAYLIGHT
BEGIN:STANDARD
TZOFFSETFROM:-0600
TZOFFSETTO:-0700
TZNAME:MST
DTSTART:20241103T080000
END:STANDARD
END:VTIMEZONE
BEGIN:VEVENT
DTSTART;TZID=America/Denver:20231229T170000
DTEND;TZID=America/Denver:20231229T200000
DTSTAMP:20260425T054052
CREATED:20231201T182804Z
LAST-MODIFIED:20231201T182804Z
UID:8666-1703869200-1703880000@littletondda.org
SUMMARY:Final Fridays: A Festive Shopping Night in Downtown Littleton
DESCRIPTION:Downtown Littleton’s newest event series\, Final Fridays!  Treats\, live music\, and late shopping on the final Friday of every month from 5-8pm.\nShop late in Downtown Littleton on Final Fridays! Participating stores will stay open until 8 p.m. with libations and live music throughout Main Street. \nParticipating Merchants: \n\nWillow + Tulaire\nSweetFire Boutique\nColorado Frame Company\nPlayForge\nLollygag Antiques and Boutique\nJ Claire Women’s Fashion\nJuniperseed Mercantile\niN-TEA\nShirt Off My Back\nNeighborhood Wine & Spirits\nGeneral Store 45\nLoop Thrift & Consignment\n5280 Crystals\nReinke Brothers\nElseWear Collective\nPenzey’s Spice
URL:https://littletondda.org/event/final-fridays-a-festive-shopping-night-in-downtown-littleton/
LOCATION:Downtown Littleton\, 2516 Main St\, Littleton\, CO\, 80120\, United States
CATEGORIES:Shopping
END:VEVENT
END:VCALENDAR