BEGIN:VCALENDAR
VERSION:2.0
PRODID:-//Downtown Littleton - ECPv6.15.18//NONSGML v1.0//EN
CALSCALE:GREGORIAN
METHOD:PUBLISH
X-ORIGINAL-URL:https://littletondda.org
X-WR-CALDESC:Events for Downtown Littleton
REFRESH-INTERVAL;VALUE=DURATION:PT1H
X-Robots-Tag:noindex
X-PUBLISHED-TTL:PT1H
BEGIN:VTIMEZONE
TZID:America/Denver
BEGIN:DAYLIGHT
TZOFFSETFROM:-0700
TZOFFSETTO:-0600
TZNAME:MDT
DTSTART:20240310T090000
END:DAYLIGHT
BEGIN:STANDARD
TZOFFSETFROM:-0600
TZOFFSETTO:-0700
TZNAME:MST
DTSTART:20241103T080000
END:STANDARD
BEGIN:DAYLIGHT
TZOFFSETFROM:-0700
TZOFFSETTO:-0600
TZNAME:MDT
DTSTART:20250309T090000
END:DAYLIGHT
BEGIN:STANDARD
TZOFFSETFROM:-0600
TZOFFSETTO:-0700
TZNAME:MST
DTSTART:20251102T080000
END:STANDARD
BEGIN:DAYLIGHT
TZOFFSETFROM:-0700
TZOFFSETTO:-0600
TZNAME:MDT
DTSTART:20260308T090000
END:DAYLIGHT
BEGIN:STANDARD
TZOFFSETFROM:-0600
TZOFFSETTO:-0700
TZNAME:MST
DTSTART:20261101T080000
END:STANDARD
END:VTIMEZONE
BEGIN:VEVENT
DTSTART;TZID=America/Denver:20250209T100000
DTEND;TZID=America/Denver:20250209T170000
DTSTAMP:20260424T094116
CREATED:20250203T202057Z
LAST-MODIFIED:20250203T202057Z
UID:10636-1739095200-1739120400@littletondda.org
SUMMARY:Galentines Day at Lollygag Antiques & Boutique
DESCRIPTION:Calling all ladies! Join us for a special Galentine’s Day celebration before the big game! \n February 9th | 10-5 | Lollygag Antiques & Boutique \nWe’ll have: \n Mindful Metals with their stunning permanent jewelry and charm bar\, perfect for creating memorable pieces! \n Colorado Fairy Hair will be on-site to add some sparkle to your day! \n Custom sunnies for all ages from Nizzie & Bubs—because who doesn’t love a stylish accessory? \nDon’t miss out on this fun-filled day of friendship and creativity! Bring your besties and let’s make some unforgettable memories together! \nLet us know if you’re coming!
URL:https://littletondda.org/event/galentines-day-at-lollygag-antiques-boutique/
LOCATION:Lollygag Antiques & Boutique\, 2677 W Alamo Ave\, LIttleton\, CO\, 80120\, United States
CATEGORIES:Holidays,Shopping
ATTACH;FMTTYPE=image/png:https://littletondda.org/wp-content/uploads/2025/02/unnamed-3.png
END:VEVENT
BEGIN:VEVENT
DTSTART;TZID=America/Denver:20250209T140000
DTEND;TZID=America/Denver:20250209T153000
DTSTAMP:20260424T094116
CREATED:20250203T200811Z
LAST-MODIFIED:20250203T200811Z
UID:10610-1739109600-1739115000@littletondda.org
SUMMARY:Tea & Chocolate Tasting at iN-TEA
DESCRIPTION:The Perfect Valentine’s Gift! \nStop by iN-TEA for a thoughtful Valentine’s Day gift – a beautiful tea pot\, infuser\, and your choice of Memory Lane Rose or Strawberry Rose Tea. \nJoin Us for a Tea & Chocolate Tasting! \nDon’t miss our indulgent Tea & Chocolate Tasting on 2/9 – a delicious pairing experience you won’t forget! Book your spot now!
URL:https://littletondda.org/event/tea-chocolate-tasting-at-in-tea/
LOCATION:iN-TEA\, 2440 Main Street\, Littleton\, CO\, 80120\, United States
CATEGORIES:Food & Drink,Holidays,Shopping
ATTACH;FMTTYPE=image/png:https://littletondda.org/wp-content/uploads/2025/02/unnamed-2.png
END:VEVENT
END:VCALENDAR