BEGIN:VCALENDAR
VERSION:2.0
PRODID:-//Downtown Littleton - ECPv6.15.18//NONSGML v1.0//EN
CALSCALE:GREGORIAN
METHOD:PUBLISH
X-WR-CALNAME:Downtown Littleton
X-ORIGINAL-URL:https://littletondda.org
X-WR-CALDESC:Events for Downtown Littleton
REFRESH-INTERVAL;VALUE=DURATION:PT1H
X-Robots-Tag:noindex
X-PUBLISHED-TTL:PT1H
BEGIN:VTIMEZONE
TZID:America/Denver
BEGIN:DAYLIGHT
TZOFFSETFROM:-0700
TZOFFSETTO:-0600
TZNAME:MDT
DTSTART:20240310T090000
END:DAYLIGHT
BEGIN:STANDARD
TZOFFSETFROM:-0600
TZOFFSETTO:-0700
TZNAME:MST
DTSTART:20241103T080000
END:STANDARD
BEGIN:DAYLIGHT
TZOFFSETFROM:-0700
TZOFFSETTO:-0600
TZNAME:MDT
DTSTART:20250309T090000
END:DAYLIGHT
BEGIN:STANDARD
TZOFFSETFROM:-0600
TZOFFSETTO:-0700
TZNAME:MST
DTSTART:20251102T080000
END:STANDARD
BEGIN:DAYLIGHT
TZOFFSETFROM:-0700
TZOFFSETTO:-0600
TZNAME:MDT
DTSTART:20260308T090000
END:DAYLIGHT
BEGIN:STANDARD
TZOFFSETFROM:-0600
TZOFFSETTO:-0700
TZNAME:MST
DTSTART:20261101T080000
END:STANDARD
END:VTIMEZONE
BEGIN:VEVENT
DTSTART;TZID=America/Denver:20250510T110000
DTEND;TZID=America/Denver:20250510T150000
DTSTAMP:20260424T052640
CREATED:20250507T173847Z
LAST-MODIFIED:20250507T173847Z
UID:12208-1746874800-1746889200@littletondda.org
SUMMARY:Playforge 4 Year Anniversary Sale
DESCRIPTION:It’s been four amazing years since we opened our doors in downtown Littleton—and we couldn’t have done it without you! We’re beyond grateful for your support and excited to celebrate this milestone together. \nFrom 11:00am – 3:00pm on Saturday\, May 10th\, we’ll be offering: \n• 50% off table stocked with fun and challenging games for the whole family\n• This year\, you’ll be able to roll a dice for a special discount across the store or a prize! Everyone wins! \nAnd\, from 11:30am – 2:30pm\, we’ll have free balloon twisting\, close- up magic and more! \nWe can’t wait to celebrate with you—thanks for being part of our journey!
URL:https://littletondda.org/event/playforge-4-year-anniversary-sale/
LOCATION:PlayForge\, 2420 Main St\, Ste 100\, Littleton\, CO\, 80120\, United States
CATEGORIES:Families,Shopping
ATTACH;FMTTYPE=image/png:https://littletondda.org/wp-content/uploads/2025/05/Screenshot-2025-05-07-113809.png
END:VEVENT
END:VCALENDAR