BEGIN:VCALENDAR
VERSION:2.0
PRODID:-//Downtown Littleton - ECPv6.15.18//NONSGML v1.0//EN
CALSCALE:GREGORIAN
METHOD:PUBLISH
X-WR-CALNAME:Downtown Littleton
X-ORIGINAL-URL:https://littletondda.org
X-WR-CALDESC:Events for Downtown Littleton
REFRESH-INTERVAL;VALUE=DURATION:PT1H
X-Robots-Tag:noindex
X-PUBLISHED-TTL:PT1H
BEGIN:VTIMEZONE
TZID:America/Denver
BEGIN:DAYLIGHT
TZOFFSETFROM:-0700
TZOFFSETTO:-0600
TZNAME:MDT
DTSTART:20250309T090000
END:DAYLIGHT
BEGIN:STANDARD
TZOFFSETFROM:-0600
TZOFFSETTO:-0700
TZNAME:MST
DTSTART:20251102T080000
END:STANDARD
BEGIN:DAYLIGHT
TZOFFSETFROM:-0700
TZOFFSETTO:-0600
TZNAME:MDT
DTSTART:20260308T090000
END:DAYLIGHT
BEGIN:STANDARD
TZOFFSETFROM:-0600
TZOFFSETTO:-0700
TZNAME:MST
DTSTART:20261101T080000
END:STANDARD
BEGIN:DAYLIGHT
TZOFFSETFROM:-0700
TZOFFSETTO:-0600
TZNAME:MDT
DTSTART:20270314T090000
END:DAYLIGHT
BEGIN:STANDARD
TZOFFSETFROM:-0600
TZOFFSETTO:-0700
TZNAME:MST
DTSTART:20271107T080000
END:STANDARD
END:VTIMEZONE
BEGIN:VEVENT
DTSTART;TZID=America/Denver:20260206T180000
DTEND;TZID=America/Denver:20260206T200000
DTSTAMP:20260423T174801
CREATED:20260201T164846Z
LAST-MODIFIED:20260201T164846Z
UID:16338-1770400800-1770408000@littletondda.org
SUMMARY:Iconic Night Prom Runway @ White Oak Boutique
DESCRIPTION:PRADA called… White Oak Boutique answered.\nStep onto the prom runway February 20th\, 6–8 PM\, and see prom looks that slay! \nMore details coming soon!
URL:https://littletondda.org/event/iconic-night-prom-runway-white-oak-boutique/
LOCATION:White Oak Boutique\, 2565 Main St\, Littleton\, CO\, 80120
CATEGORIES:Shopping
ATTACH;FMTTYPE=image/png:https://littletondda.org/wp-content/uploads/2026/02/Screenshot-2026-02-01-at-9.43.55-AM.png
END:VEVENT
END:VCALENDAR