BEGIN:VCALENDAR
VERSION:2.0
PRODID:-//Downtown Littleton - ECPv6.15.18//NONSGML v1.0//EN
CALSCALE:GREGORIAN
METHOD:PUBLISH
X-ORIGINAL-URL:https://littletondda.org
X-WR-CALDESC:Events for Downtown Littleton
REFRESH-INTERVAL;VALUE=DURATION:PT1H
X-Robots-Tag:noindex
X-PUBLISHED-TTL:PT1H
BEGIN:VTIMEZONE
TZID:America/Denver
BEGIN:DAYLIGHT
TZOFFSETFROM:-0700
TZOFFSETTO:-0600
TZNAME:MDT
DTSTART:20250309T090000
END:DAYLIGHT
BEGIN:STANDARD
TZOFFSETFROM:-0600
TZOFFSETTO:-0700
TZNAME:MST
DTSTART:20251102T080000
END:STANDARD
BEGIN:DAYLIGHT
TZOFFSETFROM:-0700
TZOFFSETTO:-0600
TZNAME:MDT
DTSTART:20260308T090000
END:DAYLIGHT
BEGIN:STANDARD
TZOFFSETFROM:-0600
TZOFFSETTO:-0700
TZNAME:MST
DTSTART:20261101T080000
END:STANDARD
BEGIN:DAYLIGHT
TZOFFSETFROM:-0700
TZOFFSETTO:-0600
TZNAME:MDT
DTSTART:20270314T090000
END:DAYLIGHT
BEGIN:STANDARD
TZOFFSETFROM:-0600
TZOFFSETTO:-0700
TZNAME:MST
DTSTART:20271107T080000
END:STANDARD
END:VTIMEZONE
BEGIN:VEVENT
DTSTART;TZID=America/Denver:20260307T080000
DTEND;TZID=America/Denver:20260307T170000
DTSTAMP:20260423T162650
CREATED:20260307T234225Z
LAST-MODIFIED:20260307T234225Z
UID:16922-1772870400-1772902800@littletondda.org
SUMMARY:Women Who Influenced Us: Musical Lineage (Virtual) @ Records on Main
DESCRIPTION:Women Who Influenced Us: Musical Lineage (Virtual)\n\n7:30 PM  8:30 PM\nGoogle Calendar  ICS\n\n\nRSVP HERE \nFeaturing\n\nLUXIANA Garcia\, Chile @luxianamusic \nAlana Mars\, CO @alanamarsmusic \nJúlia Lins\, @julialins.music \nAlissa Kotranza of Angels in Electric Chairs\, CO\, @angelsinelectricchairs \nMadison Violett\, LA\, @venomous.violett \nElle Taranis\, NYC/NJ @elle_trex \nKristina Evonne\, @kristinaevonne
URL:https://littletondda.org/event/women-who-influenced-us-musical-lineage-virtual-records-on-main/
LOCATION:Records on Main\, 2430 Main St\, Littleton\, CO\, 80120\, United States
CATEGORIES:Classes,Shopping
ATTACH;FMTTYPE=image/png:https://littletondda.org/wp-content/uploads/2026/03/Screenshot-2026-03-07-at-4.40.12-PM.png
END:VEVENT
END:VCALENDAR