BEGIN:VCALENDAR
VERSION:2.0
PRODID:-//Downtown Littleton - ECPv6.15.18//NONSGML v1.0//EN
CALSCALE:GREGORIAN
METHOD:PUBLISH
X-ORIGINAL-URL:https://littletondda.org
X-WR-CALDESC:Events for Downtown Littleton
REFRESH-INTERVAL;VALUE=DURATION:PT1H
X-Robots-Tag:noindex
X-PUBLISHED-TTL:PT1H
BEGIN:VTIMEZONE
TZID:America/Denver
BEGIN:DAYLIGHT
TZOFFSETFROM:-0700
TZOFFSETTO:-0600
TZNAME:MDT
DTSTART:20250309T090000
END:DAYLIGHT
BEGIN:STANDARD
TZOFFSETFROM:-0600
TZOFFSETTO:-0700
TZNAME:MST
DTSTART:20251102T080000
END:STANDARD
BEGIN:DAYLIGHT
TZOFFSETFROM:-0700
TZOFFSETTO:-0600
TZNAME:MDT
DTSTART:20260308T090000
END:DAYLIGHT
BEGIN:STANDARD
TZOFFSETFROM:-0600
TZOFFSETTO:-0700
TZNAME:MST
DTSTART:20261101T080000
END:STANDARD
BEGIN:DAYLIGHT
TZOFFSETFROM:-0700
TZOFFSETTO:-0600
TZNAME:MDT
DTSTART:20270314T090000
END:DAYLIGHT
BEGIN:STANDARD
TZOFFSETFROM:-0600
TZOFFSETTO:-0700
TZNAME:MST
DTSTART:20271107T080000
END:STANDARD
END:VTIMEZONE
BEGIN:VEVENT
DTSTART;TZID=America/Denver:20260311T163000
DTEND;TZID=America/Denver:20260311T180000
DTSTAMP:20260423T163222
CREATED:20260307T232939Z
LAST-MODIFIED:20260307T233004Z
UID:16905-1773246600-1773252000@littletondda.org
SUMMARY:Songwriting as Storytelling: Women's Perspectives in Music @ Records on Main
DESCRIPTION:Songwriting as Storytelling: Women’s Perspectives in Music\n\n3/11 from 4:30 PM  6:00 PM\nRecords on Main (map)\nGoogle Calendar  ICS\n\n\nRSVP HERE  \nFeaturing \nNina de Freitas @ninadefreitas \nMegan Black @meganblackmusic \nKira Metcalf @kirametcalf \nMaria (from Thee Soreheads) @theesoreheads \nJúlia Lins @julialins.music \nMeg Davis @megdavisandtheshop \nBOO85\, @boo85_band \nMadison Violett\, LA\, @venomous.violett \nKristina Evonne\, @kristinaevonne
URL:https://littletondda.org/event/songwriting-as-storytelling-womens-perspectives-in-music-records-on-main/
LOCATION:Records on Main\, 2430 Main St\, Littleton\, CO\, 80120\, United States
CATEGORIES:Classes,Shopping,Visual & Performing Arts
ATTACH;FMTTYPE=image/png:https://littletondda.org/wp-content/uploads/2026/03/Screenshot-2026-03-07-at-4.28.23-PM.png
END:VEVENT
END:VCALENDAR