BEGIN:VCALENDAR
VERSION:2.0
PRODID:-//Downtown Littleton - ECPv6.15.18//NONSGML v1.0//EN
CALSCALE:GREGORIAN
METHOD:PUBLISH
X-WR-CALNAME:Downtown Littleton
X-ORIGINAL-URL:https://littletondda.org
X-WR-CALDESC:Events for Downtown Littleton
REFRESH-INTERVAL;VALUE=DURATION:PT1H
X-Robots-Tag:noindex
X-PUBLISHED-TTL:PT1H
BEGIN:VTIMEZONE
TZID:America/Denver
BEGIN:DAYLIGHT
TZOFFSETFROM:-0700
TZOFFSETTO:-0600
TZNAME:MDT
DTSTART:20250309T090000
END:DAYLIGHT
BEGIN:STANDARD
TZOFFSETFROM:-0600
TZOFFSETTO:-0700
TZNAME:MST
DTSTART:20251102T080000
END:STANDARD
BEGIN:DAYLIGHT
TZOFFSETFROM:-0700
TZOFFSETTO:-0600
TZNAME:MDT
DTSTART:20260308T090000
END:DAYLIGHT
BEGIN:STANDARD
TZOFFSETFROM:-0600
TZOFFSETTO:-0700
TZNAME:MST
DTSTART:20261101T080000
END:STANDARD
BEGIN:DAYLIGHT
TZOFFSETFROM:-0700
TZOFFSETTO:-0600
TZNAME:MDT
DTSTART:20270314T090000
END:DAYLIGHT
BEGIN:STANDARD
TZOFFSETFROM:-0600
TZOFFSETTO:-0700
TZNAME:MST
DTSTART:20271107T080000
END:STANDARD
END:VTIMEZONE
BEGIN:VEVENT
DTSTART;TZID=America/Denver:20260314T170000
DTEND;TZID=America/Denver:20260314T200000
DTSTAMP:20260423T163134
CREATED:20260307T233223Z
LAST-MODIFIED:20260307T233223Z
UID:16909-1773507600-1773518400@littletondda.org
SUMMARY:Live Music @ Records on Main
DESCRIPTION:Live Music\n\n3/14 from 5:00 PM to 8:00 PM\n\n\nRSVP HERE \nFeaturing \nBlank Slate\, CO @blankslateband \nUNidentified Subjects\, CO @unidentifiedsubjects \nEmospacebird\, Philly @emospacebird \n5-Foot Betty\, CO @five_foot_betty \nAlis Reflective Soul @alisreflectivesoul
URL:https://littletondda.org/event/live-music-records-on-main/
LOCATION:Records on Main\, 2430 Main St\, Littleton\, CO\, 80120\, United States
CATEGORIES:Live Music,Shopping
ATTACH;FMTTYPE=image/png:https://littletondda.org/wp-content/uploads/2026/03/Screenshot-2026-03-07-at-4.30.30-PM.png
END:VEVENT
END:VCALENDAR