BEGIN:VCALENDAR
VERSION:2.0
PRODID:-//Downtown Littleton - ECPv6.15.18//NONSGML v1.0//EN
CALSCALE:GREGORIAN
METHOD:PUBLISH
X-ORIGINAL-URL:https://littletondda.org
X-WR-CALDESC:Events for Downtown Littleton
REFRESH-INTERVAL;VALUE=DURATION:PT1H
X-Robots-Tag:noindex
X-PUBLISHED-TTL:PT1H
BEGIN:VTIMEZONE
TZID:America/Denver
BEGIN:DAYLIGHT
TZOFFSETFROM:-0700
TZOFFSETTO:-0600
TZNAME:MDT
DTSTART:20250309T090000
END:DAYLIGHT
BEGIN:STANDARD
TZOFFSETFROM:-0600
TZOFFSETTO:-0700
TZNAME:MST
DTSTART:20251102T080000
END:STANDARD
BEGIN:DAYLIGHT
TZOFFSETFROM:-0700
TZOFFSETTO:-0600
TZNAME:MDT
DTSTART:20260308T090000
END:DAYLIGHT
BEGIN:STANDARD
TZOFFSETFROM:-0600
TZOFFSETTO:-0700
TZNAME:MST
DTSTART:20261101T080000
END:STANDARD
BEGIN:DAYLIGHT
TZOFFSETFROM:-0700
TZOFFSETTO:-0600
TZNAME:MDT
DTSTART:20270314T090000
END:DAYLIGHT
BEGIN:STANDARD
TZOFFSETFROM:-0600
TZOFFSETTO:-0700
TZNAME:MST
DTSTART:20271107T080000
END:STANDARD
END:VTIMEZONE
BEGIN:VEVENT
DTSTART;TZID=America/Denver:20260325T170000
DTEND;TZID=America/Denver:20260325T200000
DTSTAMP:20260423T163222
CREATED:20260226T161710Z
LAST-MODIFIED:20260226T161710Z
UID:16638-1774458000-1774468800@littletondda.org
SUMMARY:Spring Party @ Uptown & Country Boutique
DESCRIPTION:Join us Weds. March 25th from 5–8PM for our Spring Fashion Party! 💐🦋 Shop the latest Spring fashion\, plus enter our giveaway and enjoy a special discount for ONE NIGHT ONLY 👀💕 It’s the perfect excuse for a night out!
URL:https://littletondda.org/event/spring-party-uptown-country-boutique/
LOCATION:Uptown & Country Boutique\, 5738 S Rapp St\, Littleton\, CO\, 80120\, United States
CATEGORIES:Shopping
ATTACH;FMTTYPE=image/jpeg:https://littletondda.org/wp-content/uploads/2026/02/IMG_6922.jpg
END:VEVENT
END:VCALENDAR