BEGIN:VCALENDAR
VERSION:2.0
PRODID:-//Downtown Littleton - ECPv6.15.18//NONSGML v1.0//EN
CALSCALE:GREGORIAN
METHOD:PUBLISH
X-ORIGINAL-URL:https://littletondda.org
X-WR-CALDESC:Events for Downtown Littleton
REFRESH-INTERVAL;VALUE=DURATION:PT1H
X-Robots-Tag:noindex
X-PUBLISHED-TTL:PT1H
BEGIN:VTIMEZONE
TZID:America/Denver
BEGIN:DAYLIGHT
TZOFFSETFROM:-0700
TZOFFSETTO:-0600
TZNAME:MDT
DTSTART:20250309T090000
END:DAYLIGHT
BEGIN:STANDARD
TZOFFSETFROM:-0600
TZOFFSETTO:-0700
TZNAME:MST
DTSTART:20251102T080000
END:STANDARD
BEGIN:DAYLIGHT
TZOFFSETFROM:-0700
TZOFFSETTO:-0600
TZNAME:MDT
DTSTART:20260308T090000
END:DAYLIGHT
BEGIN:STANDARD
TZOFFSETFROM:-0600
TZOFFSETTO:-0700
TZNAME:MST
DTSTART:20261101T080000
END:STANDARD
BEGIN:DAYLIGHT
TZOFFSETFROM:-0700
TZOFFSETTO:-0600
TZNAME:MDT
DTSTART:20270314T090000
END:DAYLIGHT
BEGIN:STANDARD
TZOFFSETFROM:-0600
TZOFFSETTO:-0700
TZNAME:MST
DTSTART:20271107T080000
END:STANDARD
END:VTIMEZONE
BEGIN:VEVENT
DTSTART;TZID=America/Denver:20260326T180000
DTEND;TZID=America/Denver:20260326T203000
DTSTAMP:20260423T163222
CREATED:20260307T234429Z
LAST-MODIFIED:20260307T234429Z
UID:16925-1774548000-1774557000@littletondda.org
SUMMARY:Listening Party - Boy Genius @ Records on Main
DESCRIPTION:Listening Party – Boy Genius\n\n3/26\, 6:00 PM  8:30 PM\nGoogle Calendar  ICS\n\n\nRSVP HERE \nLed by \nGrace\, from Flem @flemofficial_
URL:https://littletondda.org/event/listening-party-boy-genius-records-on-main/
LOCATION:Records on Main\, 2430 Main St\, Littleton\, CO\, 80120\, United States
CATEGORIES:Classes,Live Music,Shopping
ATTACH;FMTTYPE=image/png:https://littletondda.org/wp-content/uploads/2026/03/Screenshot-2026-03-07-at-4.42.40-PM.png
END:VEVENT
BEGIN:VEVENT
DTSTART;TZID=America/Denver:20260326T190000
DTEND;TZID=America/Denver:20260326T210000
DTSTAMP:20260423T163222
CREATED:20251230T035038Z
LAST-MODIFIED:20251230T035038Z
UID:15773-1774551600-1774558800@littletondda.org
SUMMARY:Small Press & World Lit Book Club with Paul @ Spell Books
DESCRIPTION:Small Press & World Lit Book Club with Paul @ Spell Books\n1 hour @ $15.00 \n\n\nMarch: Woman Running in the Mountains by Yūko Tsushima \nCome prepared to discuss the text while enjoying time with fellow readers. We’ll have snacks and drinks to share.
URL:https://littletondda.org/event/small-press-world-lit-book-club-with-paul-spell-books-3/
LOCATION:Spell Books\, 2376 W Main Street\, Littleton\, CO\, 80120\, United States
CATEGORIES:Classes,Shopping
ATTACH;FMTTYPE=image/png:https://littletondda.org/wp-content/uploads/2025/12/Screenshot-2025-12-29-at-8.45.33-PM.png
END:VEVENT
END:VCALENDAR