BEGIN:VCALENDAR
VERSION:2.0
PRODID:-//Downtown Littleton - ECPv6.15.18//NONSGML v1.0//EN
CALSCALE:GREGORIAN
METHOD:PUBLISH
X-ORIGINAL-URL:https://littletondda.org
X-WR-CALDESC:Events for Downtown Littleton
REFRESH-INTERVAL;VALUE=DURATION:PT1H
X-Robots-Tag:noindex
X-PUBLISHED-TTL:PT1H
BEGIN:VTIMEZONE
TZID:America/Denver
BEGIN:DAYLIGHT
TZOFFSETFROM:-0700
TZOFFSETTO:-0600
TZNAME:MDT
DTSTART:20250309T090000
END:DAYLIGHT
BEGIN:STANDARD
TZOFFSETFROM:-0600
TZOFFSETTO:-0700
TZNAME:MST
DTSTART:20251102T080000
END:STANDARD
BEGIN:DAYLIGHT
TZOFFSETFROM:-0700
TZOFFSETTO:-0600
TZNAME:MDT
DTSTART:20260308T090000
END:DAYLIGHT
BEGIN:STANDARD
TZOFFSETFROM:-0600
TZOFFSETTO:-0700
TZNAME:MST
DTSTART:20261101T080000
END:STANDARD
BEGIN:DAYLIGHT
TZOFFSETFROM:-0700
TZOFFSETTO:-0600
TZNAME:MDT
DTSTART:20270314T090000
END:DAYLIGHT
BEGIN:STANDARD
TZOFFSETFROM:-0600
TZOFFSETTO:-0700
TZNAME:MST
DTSTART:20271107T080000
END:STANDARD
END:VTIMEZONE
BEGIN:VEVENT
DTSTART;TZID=America/Denver:20260412T140000
DTEND;TZID=America/Denver:20260412T153000
DTSTAMP:20260423T153724
CREATED:20260307T235311Z
LAST-MODIFIED:20260307T235355Z
UID:16934-1776002400-1776007800@littletondda.org
SUMMARY:Oolong Tea Class @ iN-TEA
DESCRIPTION:$30 Per Person \nOolong Tea\n\nDate: Sunday\, April 12th\, 2026\nTime: 2:00pm-3:30pm\nLocation: 2440 Main St\, Littleton\, CO 80120 \nDiscover the rich history and unique flavors of oolong tea! Taste five distinct oolongs while learning about their processing and brewing techniques from an expert. Perfect for tea enthusiasts looking to explore this complex tea. \nReserve Your Spot Today!\nCall us at 720-981-2512 or visit us in-store at 2440 Main St\, Littleton\, CO 80120 to prepay for your place in one of our public tea classes. \n\nBook Class
URL:https://littletondda.org/event/oolong-tea-class-in-tea/
LOCATION:iN-TEA\, 2440 Main Street\, Littleton\, CO\, 80120\, United States
CATEGORIES:Classes,Food & Drink,Shopping
ATTACH;FMTTYPE=image/png:https://littletondda.org/wp-content/uploads/2026/03/Screenshot-2026-03-07-at-4.51.48-PM.png
END:VEVENT
END:VCALENDAR