BEGIN:VCALENDAR
VERSION:2.0
PRODID:-//Downtown Littleton - ECPv6.15.18//NONSGML v1.0//EN
CALSCALE:GREGORIAN
METHOD:PUBLISH
X-ORIGINAL-URL:https://littletondda.org
X-WR-CALDESC:Events for Downtown Littleton
REFRESH-INTERVAL;VALUE=DURATION:PT1H
X-Robots-Tag:noindex
X-PUBLISHED-TTL:PT1H
BEGIN:VTIMEZONE
TZID:America/Denver
BEGIN:DAYLIGHT
TZOFFSETFROM:-0700
TZOFFSETTO:-0600
TZNAME:MDT
DTSTART:20250309T090000
END:DAYLIGHT
BEGIN:STANDARD
TZOFFSETFROM:-0600
TZOFFSETTO:-0700
TZNAME:MST
DTSTART:20251102T080000
END:STANDARD
BEGIN:DAYLIGHT
TZOFFSETFROM:-0700
TZOFFSETTO:-0600
TZNAME:MDT
DTSTART:20260308T090000
END:DAYLIGHT
BEGIN:STANDARD
TZOFFSETFROM:-0600
TZOFFSETTO:-0700
TZNAME:MST
DTSTART:20261101T080000
END:STANDARD
BEGIN:DAYLIGHT
TZOFFSETFROM:-0700
TZOFFSETTO:-0600
TZNAME:MDT
DTSTART:20270314T090000
END:DAYLIGHT
BEGIN:STANDARD
TZOFFSETFROM:-0600
TZOFFSETTO:-0700
TZNAME:MST
DTSTART:20271107T080000
END:STANDARD
END:VTIMEZONE
BEGIN:VEVENT
DTSTART;TZID=America/Denver:20260416T180000
DTEND;TZID=America/Denver:20260416T210000
DTSTAMP:20260423T153725
CREATED:20260401T021454Z
LAST-MODIFIED:20260401T021454Z
UID:17358-1776362400-1776373200@littletondda.org
SUMMARY:Spring Fashion Show @ True Find Boutique
DESCRIPTION:Spring has sprung! @truefindboutique can’t wait to host you at our 2026 Spring Fashion show. We will be featuring spring/summer and resort looks. \nStunning looks\, local live music\, light bites and beverages. \nWe can’t wait to see you on Thursday\, April 16th!\nJoin us at 6pm.\n7:30pm show time ✨
URL:https://littletondda.org/event/spring-fashion-show-true-find-boutique/
LOCATION:True Find Boutique\, 2529 Main St\, Littleton\, CO\, 80120
CATEGORIES:Shopping
ATTACH;FMTTYPE=image/png:https://littletondda.org/wp-content/uploads/2026/03/Screenshot-2026-03-31-at-8.09.52-PM.png
END:VEVENT
END:VCALENDAR