BEGIN:VCALENDAR
VERSION:2.0
PRODID:-//Downtown Littleton - ECPv6.15.18//NONSGML v1.0//EN
CALSCALE:GREGORIAN
METHOD:PUBLISH
X-WR-CALNAME:Downtown Littleton
X-ORIGINAL-URL:https://littletondda.org
X-WR-CALDESC:Events for Downtown Littleton
REFRESH-INTERVAL;VALUE=DURATION:PT1H
X-Robots-Tag:noindex
X-PUBLISHED-TTL:PT1H
BEGIN:VTIMEZONE
TZID:America/Denver
BEGIN:DAYLIGHT
TZOFFSETFROM:-0700
TZOFFSETTO:-0600
TZNAME:MDT
DTSTART:20230312T090000
END:DAYLIGHT
BEGIN:STANDARD
TZOFFSETFROM:-0600
TZOFFSETTO:-0700
TZNAME:MST
DTSTART:20231105T080000
END:STANDARD
BEGIN:DAYLIGHT
TZOFFSETFROM:-0700
TZOFFSETTO:-0600
TZNAME:MDT
DTSTART:20240310T090000
END:DAYLIGHT
BEGIN:STANDARD
TZOFFSETFROM:-0600
TZOFFSETTO:-0700
TZNAME:MST
DTSTART:20241103T080000
END:STANDARD
BEGIN:DAYLIGHT
TZOFFSETFROM:-0700
TZOFFSETTO:-0600
TZNAME:MDT
DTSTART:20250309T090000
END:DAYLIGHT
BEGIN:STANDARD
TZOFFSETFROM:-0600
TZOFFSETTO:-0700
TZNAME:MST
DTSTART:20251102T080000
END:STANDARD
END:VTIMEZONE
BEGIN:VEVENT
DTSTART;TZID=America/Denver:20241029T180000
DTEND;TZID=America/Denver:20241029T193000
DTSTAMP:20260425T134654
CREATED:20241011T221605Z
LAST-MODIFIED:20241011T223351Z
UID:9095-1730224800-1730230200@littletondda.org
SUMMARY:Kitchen Witch Medicine
DESCRIPTION:Curious about herbalism and the practical uses of plants that can enhance your health and wellbeing? Step into the apothecary to discover a variety of familiar kitchen herbs and their medicinal and magical properties. From ancient times to modern day\, the kitchen has been a magical place to explore the medicine of herbs. You’ll make a classic kitchen witch concoction to add to your cabinet to keep you and your family healthy through the fall and winter seasons that you can make again year after year.
URL:https://littletondda.org/event/kitchen-witch-medicine/
LOCATION:Bridget’s Botanicals\, 5733 S Prince St\, Littleton\, CO\, 80120\, United States
CATEGORIES:Classes,Wellness & Exercise
ATTACH;FMTTYPE=image/jpeg:https://littletondda.org/wp-content/uploads/2024/10/16941406115502-Kitchen-Witch-Medicine-Class.jpg
END:VEVENT
END:VCALENDAR