BEGIN:VCALENDAR
VERSION:2.0
PRODID:-//Downtown Littleton - ECPv6.15.18//NONSGML v1.0//EN
CALSCALE:GREGORIAN
METHOD:PUBLISH
X-ORIGINAL-URL:https://littletondda.org
X-WR-CALDESC:Events for Downtown Littleton
REFRESH-INTERVAL;VALUE=DURATION:PT1H
X-Robots-Tag:noindex
X-PUBLISHED-TTL:PT1H
BEGIN:VTIMEZONE
TZID:America/Denver
BEGIN:DAYLIGHT
TZOFFSETFROM:-0700
TZOFFSETTO:-0600
TZNAME:MDT
DTSTART:20240310T090000
END:DAYLIGHT
BEGIN:STANDARD
TZOFFSETFROM:-0600
TZOFFSETTO:-0700
TZNAME:MST
DTSTART:20241103T080000
END:STANDARD
BEGIN:DAYLIGHT
TZOFFSETFROM:-0700
TZOFFSETTO:-0600
TZNAME:MDT
DTSTART:20250309T090000
END:DAYLIGHT
BEGIN:STANDARD
TZOFFSETFROM:-0600
TZOFFSETTO:-0700
TZNAME:MST
DTSTART:20251102T080000
END:STANDARD
BEGIN:DAYLIGHT
TZOFFSETFROM:-0700
TZOFFSETTO:-0600
TZNAME:MDT
DTSTART:20260308T090000
END:DAYLIGHT
BEGIN:STANDARD
TZOFFSETFROM:-0600
TZOFFSETTO:-0700
TZNAME:MST
DTSTART:20261101T080000
END:STANDARD
END:VTIMEZONE
BEGIN:VEVENT
DTSTART;TZID=America/Denver:20250205T160000
DTEND;TZID=America/Denver:20250205T180000
DTSTAMP:20260425T094704
CREATED:20250203T201818Z
LAST-MODIFIED:20250203T201818Z
UID:10633-1738771200-1738778400@littletondda.org
SUMMARY:Sound & Shop at Lollygag Antiques & Boutique
DESCRIPTION:Do you find yourself struggling with incessant internal noise that’s causing imbalance and potentially harming your soul? \nIllness\, after all\, is an energetic imbalance that affects us physically\, mentally\, and emotionally. \nFortunately\, sound has been proven to help restore balance. \nI invite you to join me for a sound bath designed to rebalance your energy and get some shopping therapy in\, as well\, at Lollygag Antiques and Boutique!! \nSign up HERE
URL:https://littletondda.org/event/sound-shop-at-lollygag-antiques-boutique/
LOCATION:Lollygag Antiques & Boutique\, 2677 W Alamo Ave\, LIttleton\, CO\, 80120\, United States
CATEGORIES:Shopping,Wellness & Exercise
ATTACH;FMTTYPE=image/jpeg:https://littletondda.org/wp-content/uploads/2025/02/unnamed-1.jpg
END:VEVENT
END:VCALENDAR